BEGIN:VCALENDAR
VERSION:2.0
PRODID:-//Victory Christian School - ECPv6.15.20//NONSGML v1.0//EN
CALSCALE:GREGORIAN
METHOD:PUBLISH
X-ORIGINAL-URL:https://vcstulsa.org
X-WR-CALDESC:Events for Victory Christian School
REFRESH-INTERVAL;VALUE=DURATION:PT1H
X-Robots-Tag:noindex
X-PUBLISHED-TTL:PT1H
BEGIN:VTIMEZONE
TZID:America/Chicago
BEGIN:DAYLIGHT
TZOFFSETFROM:-0600
TZOFFSETTO:-0500
TZNAME:CDT
DTSTART:20240310T080000
END:DAYLIGHT
BEGIN:STANDARD
TZOFFSETFROM:-0500
TZOFFSETTO:-0600
TZNAME:CST
DTSTART:20241103T070000
END:STANDARD
BEGIN:DAYLIGHT
TZOFFSETFROM:-0600
TZOFFSETTO:-0500
TZNAME:CDT
DTSTART:20250309T080000
END:DAYLIGHT
BEGIN:STANDARD
TZOFFSETFROM:-0500
TZOFFSETTO:-0600
TZNAME:CST
DTSTART:20251102T070000
END:STANDARD
BEGIN:DAYLIGHT
TZOFFSETFROM:-0600
TZOFFSETTO:-0500
TZNAME:CDT
DTSTART:20260308T080000
END:DAYLIGHT
BEGIN:STANDARD
TZOFFSETFROM:-0500
TZOFFSETTO:-0600
TZNAME:CST
DTSTART:20261101T070000
END:STANDARD
END:VTIMEZONE
BEGIN:VEVENT
DTSTART;TZID=America/Chicago:20250411T170000
DTEND;TZID=America/Chicago:20250411T180000
DTSTAMP:20260421T045051
CREATED:20250130T212610Z
LAST-MODIFIED:20250411T223228Z
UID:10001359-1744390800-1744394400@vcstulsa.org
SUMMARY:Baseball at Sapulpa
DESCRIPTION:
URL:https://vcstulsa.org/event/baseball-at-sapulpa-2/
LOCATION:Sapulpa High School\, 27 S Mission St\, Sapulpa\, OK\, United States
GEO:35.999032;-96.098799
X-APPLE-STRUCTURED-LOCATION;VALUE=URI;X-ADDRESS=Sapulpa High School 27 S Mission St Sapulpa OK United States;X-APPLE-RADIUS=500;X-TITLE=27 S Mission St:geo:-96.098799,35.999032
END:VEVENT
BEGIN:VEVENT
DTSTART;TZID=America/Chicago:20250311T200000
DTEND;TZID=America/Chicago:20250311T213000
DTSTAMP:20260421T045051
CREATED:20250224T164447Z
LAST-MODIFIED:20250312T020229Z
UID:10001377-1741723200-1741728600@vcstulsa.org
SUMMARY:Soccer - Boys vs Sapulpa
DESCRIPTION:
URL:https://vcstulsa.org/event/soccer-boys-vs-sapulpa/
LOCATION:Sapulpa High School\, 27 S Mission St\, Sapulpa\, OK\, United States
GEO:35.999032;-96.098799
X-APPLE-STRUCTURED-LOCATION;VALUE=URI;X-ADDRESS=Sapulpa High School 27 S Mission St Sapulpa OK United States;X-APPLE-RADIUS=500;X-TITLE=27 S Mission St:geo:-96.098799,35.999032
END:VEVENT
BEGIN:VEVENT
DTSTART;TZID=America/Chicago:20250311T180000
DTEND;TZID=America/Chicago:20250311T193000
DTSTAMP:20260421T045051
CREATED:20250224T164447Z
LAST-MODIFIED:20250312T000235Z
UID:10001376-1741716000-1741721400@vcstulsa.org
SUMMARY:Soccer - Girls vs Sapulpa
DESCRIPTION:
URL:https://vcstulsa.org/event/soccer-girls-vs-sapulpa/
LOCATION:Sapulpa High School\, 27 S Mission St\, Sapulpa\, OK\, United States
GEO:35.999032;-96.098799
X-APPLE-STRUCTURED-LOCATION;VALUE=URI;X-ADDRESS=Sapulpa High School 27 S Mission St Sapulpa OK United States;X-APPLE-RADIUS=500;X-TITLE=27 S Mission St:geo:-96.098799,35.999032
END:VEVENT
END:VCALENDAR