BEGIN:VCALENDAR
VERSION:2.0
PRODID:-//Victory Christian School - ECPv6.15.20//NONSGML v1.0//EN
CALSCALE:GREGORIAN
METHOD:PUBLISH
X-WR-CALNAME:Victory Christian School
X-ORIGINAL-URL:https://vcstulsa.org
X-WR-CALDESC:Events for Victory Christian School
REFRESH-INTERVAL;VALUE=DURATION:PT1H
X-Robots-Tag:noindex
X-PUBLISHED-TTL:PT1H
BEGIN:VTIMEZONE
TZID:America/Chicago
BEGIN:DAYLIGHT
TZOFFSETFROM:-0600
TZOFFSETTO:-0500
TZNAME:CDT
DTSTART:20230312T080000
END:DAYLIGHT
BEGIN:STANDARD
TZOFFSETFROM:-0500
TZOFFSETTO:-0600
TZNAME:CST
DTSTART:20231105T070000
END:STANDARD
BEGIN:DAYLIGHT
TZOFFSETFROM:-0600
TZOFFSETTO:-0500
TZNAME:CDT
DTSTART:20240310T080000
END:DAYLIGHT
BEGIN:STANDARD
TZOFFSETFROM:-0500
TZOFFSETTO:-0600
TZNAME:CST
DTSTART:20241103T070000
END:STANDARD
BEGIN:DAYLIGHT
TZOFFSETFROM:-0600
TZOFFSETTO:-0500
TZNAME:CDT
DTSTART:20250309T080000
END:DAYLIGHT
BEGIN:STANDARD
TZOFFSETFROM:-0500
TZOFFSETTO:-0600
TZNAME:CST
DTSTART:20251102T070000
END:STANDARD
END:VTIMEZONE
BEGIN:VEVENT
DTSTART;TZID=America/Chicago:20241210T190000
DTEND;TZID=America/Chicago:20241210T200000
DTSTAMP:20260419T111053
CREATED:20241112T024443Z
LAST-MODIFIED:20241211T014454Z
UID:10001329-1733857200-1733860800@vcstulsa.org
SUMMARY:Wrestling — Verdigris Dual
DESCRIPTION:
URL:https://vcstulsa.org/event/wrestling-verdigris-dual/
LOCATION:8104 E 540 Rd\, 1501 Claremore Ave\, Pawhuska\, OK\, United States
GEO:36.672889;-96.340597
X-APPLE-STRUCTURED-LOCATION;VALUE=URI;X-ADDRESS=8104 E 540 Rd 1501 Claremore Ave Pawhuska OK United States;X-APPLE-RADIUS=500;X-TITLE=1501 Claremore Ave:geo:-96.340597,36.672889
END:VEVENT
BEGIN:VEVENT
DTSTART;VALUE=DATE:20241209
DTEND;VALUE=DATE:20241215
DTSTAMP:20260419T111053
CREATED:20241030T144945Z
LAST-MODIFIED:20241214T235943Z
UID:10001299-1733702400-1734220799@vcstulsa.org
SUMMARY:BASKETBALL - INOLA TOURNAMENT
DESCRIPTION:
URL:https://vcstulsa.org/event/basketball-inola-tournament-2/
LOCATION:Inola High School\, 100 E Commercial St\, Inola\, OK\, United States
GEO:36.15229;-95.507379
X-APPLE-STRUCTURED-LOCATION;VALUE=URI;X-ADDRESS=Inola High School 100 E Commercial St Inola OK United States;X-APPLE-RADIUS=500;X-TITLE=100 E Commercial St:geo:-95.507379,36.15229
END:VEVENT
BEGIN:VEVENT
DTSTART;TZID=America/Chicago:20241206T193000
DTEND;TZID=America/Chicago:20241206T223000
DTSTAMP:20260419T111053
CREATED:20241030T135321Z
LAST-MODIFIED:20241207T042959Z
UID:10001293-1733513400-1733524200@vcstulsa.org
SUMMARY:Boys Basketball at Cascia Hall
DESCRIPTION:JVB – 5:00pm\nVB – 7:30pm
URL:https://vcstulsa.org/event/boys-basketball-at-cascia-hall/
LOCATION:Cascia Hall Preparatory School\, 2520 S Yorktown Ave\, Tulsa\, OK\, United States
GEO:36.128889;-95.962782
X-APPLE-STRUCTURED-LOCATION;VALUE=URI;X-ADDRESS=Cascia Hall Preparatory School 2520 S Yorktown Ave Tulsa OK United States;X-APPLE-RADIUS=500;X-TITLE=2520 S Yorktown Ave:geo:-95.962782,36.128889
END:VEVENT
BEGIN:VEVENT
DTSTART;TZID=America/Chicago:20241206T180000
DTEND;TZID=America/Chicago:20241206T210000
DTSTAMP:20260419T111053
CREATED:20241030T135321Z
LAST-MODIFIED:20241207T024447Z
UID:10001292-1733508000-1733518800@vcstulsa.org
SUMMARY:Girls Basketball at Cascia Hall
DESCRIPTION:JVG – 4:00pm\nVG – 6:00pm
URL:https://vcstulsa.org/event/girls-basketball-at-cascia-hall/
LOCATION:Cascia Hall Preparatory School\, 2520 S Yorktown Ave\, Tulsa\, OK\, United States
GEO:36.128889;-95.962782
X-APPLE-STRUCTURED-LOCATION;VALUE=URI;X-ADDRESS=Cascia Hall Preparatory School 2520 S Yorktown Ave Tulsa OK United States;X-APPLE-RADIUS=500;X-TITLE=2520 S Yorktown Ave:geo:-95.962782,36.128889
END:VEVENT
BEGIN:VEVENT
DTSTART;VALUE=DATE:20241206
DTEND;VALUE=DATE:20241208
DTSTAMP:20260419T111053
CREATED:20241112T024443Z
LAST-MODIFIED:20241207T234457Z
UID:10001328-1733443200-1733615999@vcstulsa.org
SUMMARY:Wrestling — Blanchard HS Tournament
DESCRIPTION:
URL:https://vcstulsa.org/event/wrestling-blanchard-hs-tournament/
END:VEVENT
BEGIN:VEVENT
DTSTART;TZID=America/Chicago:20241129T103000
DTEND;TZID=America/Chicago:20241129T133000
DTSTAMP:20260419T111053
CREATED:20241030T135321Z
LAST-MODIFIED:20241129T184449Z
UID:10001291-1732876200-1732887000@vcstulsa.org
SUMMARY:Boys Scrimmage
DESCRIPTION:vs Claremore and Coweta
URL:https://vcstulsa.org/event/boys-scrimmage-2/
LOCATION:Coweta High School\, 16600 S 305th E Ave\, Coweta\, OK\, United States
GEO:35.921357;-95.636628
X-APPLE-STRUCTURED-LOCATION;VALUE=URI;X-ADDRESS=Coweta High School 16600 S 305th E Ave Coweta OK United States;X-APPLE-RADIUS=500;X-TITLE=16600 S 305th E Ave:geo:-95.636628,35.921357
END:VEVENT
BEGIN:VEVENT
DTSTART;VALUE=DATE:20241125
DTEND;VALUE=DATE:20241130
DTSTAMP:20260419T111053
CREATED:20240812T190549Z
LAST-MODIFIED:20241129T234455Z
UID:10001215-1732492800-1732924799@vcstulsa.org
SUMMARY:NO SCHOOL: THANKSGIVING BREAK
DESCRIPTION:
URL:https://vcstulsa.org/event/no-school-thanksgiving-break-3/
END:VEVENT
BEGIN:VEVENT
DTSTART;VALUE=DATE:20241123
DTEND;VALUE=DATE:20241124
DTSTAMP:20260419T111053
CREATED:20241030T135321Z
LAST-MODIFIED:20241123T234456Z
UID:10001290-1732320000-1732406399@vcstulsa.org
SUMMARY:East/West Showcase - Basketball Scrimmage
DESCRIPTION:Games in Edmond
URL:https://vcstulsa.org/event/east-west-showcase-basketball-scrimmage/
END:VEVENT
BEGIN:VEVENT
DTSTART;TZID=America/Chicago:20241122T080000
DTEND;TZID=America/Chicago:20241122T120000
DTSTAMP:20260419T111053
CREATED:20240911T182317Z
LAST-MODIFIED:20241122T175947Z
UID:10001272-1732262400-1732276800@vcstulsa.org
SUMMARY:TURKEY BOWL
DESCRIPTION:
URL:https://vcstulsa.org/event/turkey-bowl/
END:VEVENT
BEGIN:VEVENT
DTSTART;TZID=America/Chicago:20241121T153000
DTEND;TZID=America/Chicago:20241121T173000
DTSTAMP:20260419T111053
CREATED:20241030T135321Z
LAST-MODIFIED:20241121T232955Z
UID:10001289-1732203000-1732210200@vcstulsa.org
SUMMARY:Girls Scrimmage
DESCRIPTION:vs Pryor\nvs Tahlequah Sequoyah
URL:https://vcstulsa.org/event/girls-scrimmage-2/
LOCATION:Victory Christian School\, 7700 S Lewis Ave\, Tulsa\, OK\, United States
GEO:36.05404;-95.957801
X-APPLE-STRUCTURED-LOCATION;VALUE=URI;X-ADDRESS=Victory Christian School 7700 S Lewis Ave Tulsa OK United States;X-APPLE-RADIUS=500;X-TITLE=7700 S Lewis Ave:geo:-95.957801,36.05404
END:VEVENT
BEGIN:VEVENT
DTSTART;TZID=America/Chicago:20241121T090000
DTEND;TZID=America/Chicago:20241121T100000
DTSTAMP:20260419T111053
CREATED:20240911T182317Z
LAST-MODIFIED:20241121T155949Z
UID:10001271-1732179600-1732183200@vcstulsa.org
SUMMARY:K3/K4 THANKSGIVING TRIBUTE
DESCRIPTION:
URL:https://vcstulsa.org/event/k3-k4-thanksgiving-tribute/
END:VEVENT
BEGIN:VEVENT
DTSTART;TZID=America/Chicago:20241119T190000
DTEND;TZID=America/Chicago:20241119T200000
DTSTAMP:20260419T111053
CREATED:20240911T175311Z
LAST-MODIFIED:20241120T014449Z
UID:10001270-1732042800-1732046400@vcstulsa.org
SUMMARY:UPPER SCHOOL FINE ARTS PROGRAM
DESCRIPTION:
URL:https://vcstulsa.org/event/upper-school-fine-arts-program-2/
END:VEVENT
BEGIN:VEVENT
DTSTART;TZID=America/Chicago:20241119T180000
DTEND;TZID=America/Chicago:20241119T190000
DTSTAMP:20260419T111053
CREATED:20241112T024443Z
LAST-MODIFIED:20241120T004507Z
UID:10001327-1732039200-1732042800@vcstulsa.org
SUMMARY:Wrestling — OSB Dual
DESCRIPTION:
URL:https://vcstulsa.org/event/wrestling-osb-dual/
END:VEVENT
BEGIN:VEVENT
DTSTART;TZID=America/Chicago:20241114T153000
DTEND;TZID=America/Chicago:20241114T183000
DTSTAMP:20260419T111053
CREATED:20241030T135321Z
LAST-MODIFIED:20241114T235949Z
UID:10001288-1731598200-1731609000@vcstulsa.org
SUMMARY:Boys Scrimmage
DESCRIPTION:vs Edison\, Okay &
URL:https://vcstulsa.org/event/boys-scrimmage/
LOCATION:Victory Christian School\, 7700 S Lewis Ave\, Tulsa\, OK\, United States
GEO:36.05404;-95.957801
X-APPLE-STRUCTURED-LOCATION;VALUE=URI;X-ADDRESS=Victory Christian School 7700 S Lewis Ave Tulsa OK United States;X-APPLE-RADIUS=500;X-TITLE=7700 S Lewis Ave:geo:-95.957801,36.05404
END:VEVENT
BEGIN:VEVENT
DTSTART;VALUE=DATE:20241109
DTEND;VALUE=DATE:20241110
DTSTAMP:20260419T111053
CREATED:20241030T135321Z
LAST-MODIFIED:20241109T233007Z
UID:10001287-1731110400-1731196799@vcstulsa.org
SUMMARY:Broken Arrow Showcase
DESCRIPTION:vs Mount Saint Mary — 2:30pm\nvs Edison — 3:30pm\nvs Sapulpa — 4:00pm
URL:https://vcstulsa.org/event/broken-arrow-showcase/
LOCATION:Broken Arrow High School\, 1901 E Albany St\, Broken Arrow\, OK\, United States
GEO:36.075574;-95.76841
X-APPLE-STRUCTURED-LOCATION;VALUE=URI;X-ADDRESS=Broken Arrow High School 1901 E Albany St Broken Arrow OK United States;X-APPLE-RADIUS=500;X-TITLE=1901 E Albany St:geo:-95.76841,36.075574
END:VEVENT
END:VCALENDAR